BEGIN:VCALENDAR
VERSION:2.0
PRODID:-//Iglesia Episcopal de Cristo - ECPv6.2.0.1//NONSGML v1.0//EN
CALSCALE:GREGORIAN
METHOD:PUBLISH
X-WR-CALNAME:Iglesia Episcopal de Cristo
X-ORIGINAL-URL:https://www.iglesiaepiscopaldecristo.com
X-WR-CALDESC:Eventos para Iglesia Episcopal de Cristo
REFRESH-INTERVAL;VALUE=DURATION:PT1H
X-Robots-Tag:noindex
X-PUBLISHED-TTL:PT1H
BEGIN:VTIMEZONE
TZID:America/Bogota
BEGIN:STANDARD
TZOFFSETFROM:-0500
TZOFFSETTO:-0500
TZNAME:-05
DTSTART:20230101T000000
END:STANDARD
END:VTIMEZONE
BEGIN:VEVENT
DTSTART;TZID=America/Bogota:20230930T090000
DTEND;TZID=America/Bogota:20231023T130000
DTSTAMP:20260424T144108
CREATED:20230917T154418Z
LAST-MODIFIED:20230917T154656Z
UID:1510-1696064400-1698066000@www.iglesiaepiscopaldecristo.com
SUMMARY:Día de oración y adoración
DESCRIPTION:La Coordinación de Mujeres Episcopales de Colón les invita a un día de oración y adoración\, el\nsábado 30 de septiembre de 9:00 a.m. a 1:00 p.m. en el Centro Multiuso Hibbert Curling de\nla iglesia Episcopal de Cristo. Tema: “Dios ha sido bueno ven y conócelo”
URL:https://www.iglesiaepiscopaldecristo.com/event/1510/
END:VEVENT
BEGIN:VEVENT
DTSTART;TZID=America/Bogota:20230923T130000
DTEND;TZID=America/Bogota:20231023T170000
DTSTAMP:20260424T144108
CREATED:20230917T153932Z
LAST-MODIFIED:20230917T154803Z
UID:1508-1695474000-1698080400@www.iglesiaepiscopaldecristo.com
SUMMARY:Juegos Bìblicos
DESCRIPTION:MES DE LA BIBLIA\, con la actividad JUEGOS BIBLICOS 2023\, en la Sala parroquial el sábado\n23 de septiembre\, desde las 1:00 p.m. a 3:00 p.m. (Habrá Pasa palabras\, cántala si puedes\,\nesgrimas\, bailes\, otros juegos y muchas sorpresas). “NO FALTES”
URL:https://www.iglesiaepiscopaldecristo.com/event/1508/
END:VEVENT
END:VCALENDAR